BEGIN:VCALENDAR
VERSION:2.0
PRODID:-//NAV - Nordic Cattle Genetic Evaluation - ECPv6.15.20//NONSGML v1.0//EN
CALSCALE:GREGORIAN
METHOD:PUBLISH
X-WR-CALNAME:NAV - Nordic Cattle Genetic Evaluation
X-ORIGINAL-URL:https://nordicebv.info/fi/
X-WR-CALDESC:Tapahtumat NAV - Nordic Cattle Genetic Evaluation
REFRESH-INTERVAL;VALUE=DURATION:PT1H
X-Robots-Tag:noindex
X-PUBLISHED-TTL:PT1H
BEGIN:VTIMEZONE
TZID:Europe/Helsinki
BEGIN:DAYLIGHT
TZOFFSETFROM:+0200
TZOFFSETTO:+0300
TZNAME:EEST
DTSTART:20240331T010000
END:DAYLIGHT
BEGIN:STANDARD
TZOFFSETFROM:+0300
TZOFFSETTO:+0200
TZNAME:EET
DTSTART:20241027T010000
END:STANDARD
BEGIN:DAYLIGHT
TZOFFSETFROM:+0200
TZOFFSETTO:+0300
TZNAME:EEST
DTSTART:20250330T010000
END:DAYLIGHT
BEGIN:STANDARD
TZOFFSETFROM:+0300
TZOFFSETTO:+0200
TZNAME:EET
DTSTART:20251026T010000
END:STANDARD
BEGIN:DAYLIGHT
TZOFFSETFROM:+0200
TZOFFSETTO:+0300
TZNAME:EEST
DTSTART:20260329T010000
END:DAYLIGHT
BEGIN:STANDARD
TZOFFSETFROM:+0300
TZOFFSETTO:+0200
TZNAME:EET
DTSTART:20261025T010000
END:STANDARD
END:VTIMEZONE
BEGIN:VEVENT
DTSTART;VALUE=DATE:20250304
DTEND;VALUE=DATE:20250305
DTSTAMP:20260421T202128
CREATED:20241113T074814Z
LAST-MODIFIED:20241113T074814Z
UID:18293-1741046400-1741132799@nordicebv.info
SUMMARY:NAV lihakarja-arvostelu
DESCRIPTION:
URL:https://nordicebv.info/fi/event/nav-lihakarja-arvostelu-12/
END:VEVENT
BEGIN:VEVENT
DTSTART;VALUE=DATE:20250304
DTEND;VALUE=DATE:20250305
DTSTAMP:20260421T202128
CREATED:20241113T075032Z
LAST-MODIFIED:20250328T102819Z
UID:18305-1741046400-1741132799@nordicebv.info
SUMMARY:NAV genomiarvostelu\, lypsykarja
DESCRIPTION:
URL:https://nordicebv.info/fi/event/nav-genomiarvostelu-78/
END:VEVENT
BEGIN:VEVENT
DTSTART;VALUE=DATE:20250323
DTEND;VALUE=DATE:20250324
DTSTAMP:20260421T202128
CREATED:20250320T104410Z
LAST-MODIFIED:20250320T104822Z
UID:19741-1742688000-1742774399@nordicebv.info
SUMMARY:Ilmoita punnitukset yms.
DESCRIPTION:NAVin lihakarjan huhtikuun arvostelua varten punnitusten ym. mittausten tulokset pitää olla viimeistään tietokannassa.
URL:https://nordicebv.info/fi/event/punnitukset-yms-tietokannassa/
END:VEVENT
BEGIN:VEVENT
DTSTART;VALUE=DATE:20250324
DTEND;VALUE=DATE:20250325
DTSTAMP:20260421T202128
CREATED:20250320T105006Z
LAST-MODIFIED:20250320T105044Z
UID:19759-1742774400-1742860799@nordicebv.info
SUMMARY:Lihakarjan genominäyte Fabalabissa
DESCRIPTION:Lihakarjan genominäytteen pitää olla Fabalabissa 24.3\, jotta se ehtii mukaan kesäkuun arvosteluun.
URL:https://nordicebv.info/fi/event/lihakarjan-genominayte/
END:VEVENT
END:VCALENDAR