BEGIN:VCALENDAR
VERSION:2.0
PRODID:-//NAV - Nordic Cattle Genetic Evaluation - ECPv6.15.20//NONSGML v1.0//EN
CALSCALE:GREGORIAN
METHOD:PUBLISH
X-WR-CALNAME:NAV - Nordic Cattle Genetic Evaluation
X-ORIGINAL-URL:https://nordicebv.info/fi/
X-WR-CALDESC:Tapahtumat NAV - Nordic Cattle Genetic Evaluation
REFRESH-INTERVAL;VALUE=DURATION:PT1H
X-Robots-Tag:noindex
X-PUBLISHED-TTL:PT1H
BEGIN:VTIMEZONE
TZID:Europe/Helsinki
BEGIN:DAYLIGHT
TZOFFSETFROM:+0200
TZOFFSETTO:+0300
TZNAME:EEST
DTSTART:20240331T010000
END:DAYLIGHT
BEGIN:STANDARD
TZOFFSETFROM:+0300
TZOFFSETTO:+0200
TZNAME:EET
DTSTART:20241027T010000
END:STANDARD
BEGIN:DAYLIGHT
TZOFFSETFROM:+0200
TZOFFSETTO:+0300
TZNAME:EEST
DTSTART:20250330T010000
END:DAYLIGHT
BEGIN:STANDARD
TZOFFSETFROM:+0300
TZOFFSETTO:+0200
TZNAME:EET
DTSTART:20251026T010000
END:STANDARD
BEGIN:DAYLIGHT
TZOFFSETFROM:+0200
TZOFFSETTO:+0300
TZNAME:EEST
DTSTART:20260329T010000
END:DAYLIGHT
BEGIN:STANDARD
TZOFFSETFROM:+0300
TZOFFSETTO:+0200
TZNAME:EET
DTSTART:20261025T010000
END:STANDARD
END:VTIMEZONE
BEGIN:VEVENT
DTSTART;VALUE=DATE:20250107
DTEND;VALUE=DATE:20250108
DTSTAMP:20260421T232731
CREATED:20231208T134133Z
LAST-MODIFIED:20250328T102917Z
UID:16380-1736208000-1736294399@nordicebv.info
SUMMARY:NAV genomiarvostelu\, lypsykarja
DESCRIPTION:
URL:https://nordicebv.info/fi/event/nav-genomiarvostelu-77/
CATEGORIES:Genomiarvostelu
END:VEVENT
BEGIN:VEVENT
DTSTART;VALUE=DATE:20250125
DTEND;VALUE=DATE:20250126
DTSTAMP:20260421T232731
CREATED:20250328T105725Z
LAST-MODIFIED:20250328T105725Z
UID:19851-1737763200-1737849599@nordicebv.info
SUMMARY:Rekisteröinti
DESCRIPTION:Eläin pitää olla rekisteröity\, jotta se tulee mukaan sukudatan poimintaan maaliskuun lihakarjan jalostusarvostelua varten.
URL:https://nordicebv.info/fi/event/rekisterointi/
END:VEVENT
END:VCALENDAR