BEGIN:VCALENDAR
VERSION:2.0
PRODID:-//NAV - Nordic Cattle Genetic Evaluation - ECPv6.15.20//NONSGML v1.0//EN
CALSCALE:GREGORIAN
METHOD:PUBLISH
X-WR-CALNAME:NAV - Nordic Cattle Genetic Evaluation
X-ORIGINAL-URL:https://nordicebv.info/fi/
X-WR-CALDESC:Tapahtumat NAV - Nordic Cattle Genetic Evaluation
REFRESH-INTERVAL;VALUE=DURATION:PT1H
X-Robots-Tag:noindex
X-PUBLISHED-TTL:PT1H
BEGIN:VTIMEZONE
TZID:Europe/Helsinki
BEGIN:DAYLIGHT
TZOFFSETFROM:+0200
TZOFFSETTO:+0300
TZNAME:EEST
DTSTART:20230326T010000
END:DAYLIGHT
BEGIN:STANDARD
TZOFFSETFROM:+0300
TZOFFSETTO:+0200
TZNAME:EET
DTSTART:20231029T010000
END:STANDARD
BEGIN:DAYLIGHT
TZOFFSETFROM:+0200
TZOFFSETTO:+0300
TZNAME:EEST
DTSTART:20240331T010000
END:DAYLIGHT
BEGIN:STANDARD
TZOFFSETFROM:+0300
TZOFFSETTO:+0200
TZNAME:EET
DTSTART:20241027T010000
END:STANDARD
BEGIN:DAYLIGHT
TZOFFSETFROM:+0200
TZOFFSETTO:+0300
TZNAME:EEST
DTSTART:20250330T010000
END:DAYLIGHT
BEGIN:STANDARD
TZOFFSETFROM:+0300
TZOFFSETTO:+0200
TZNAME:EET
DTSTART:20251026T010000
END:STANDARD
END:VTIMEZONE
BEGIN:VEVENT
DTSTART;VALUE=DATE:20240402
DTEND;VALUE=DATE:20240403
DTSTAMP:20260424T154203
CREATED:20231208T111125Z
LAST-MODIFIED:20231208T111125Z
UID:16250-1712016000-1712102399@nordicebv.info
SUMMARY:NAV genomiarvostelu
DESCRIPTION:
URL:https://nordicebv.info/fi/event/nav-genomiarvostelu-71/
CATEGORIES:Genomiarvostelu
END:VEVENT
BEGIN:VEVENT
DTSTART;VALUE=DATE:20240402
DTEND;VALUE=DATE:20240403
DTSTAMP:20260424T154203
CREATED:20231208T121512Z
LAST-MODIFIED:20231208T121512Z
UID:16258-1712016000-1712102399@nordicebv.info
SUMMARY:Interbull-arvostelu
DESCRIPTION:
URL:https://nordicebv.info/fi/event/interbull-arvostelu-27/
CATEGORIES:Interbull-arvostelu
END:VEVENT
BEGIN:VEVENT
DTSTART;VALUE=DATE:20240416
DTEND;VALUE=DATE:20240417
DTSTAMP:20260424T154203
CREATED:20231208T121801Z
LAST-MODIFIED:20231208T121801Z
UID:16266-1713225600-1713311999@nordicebv.info
SUMMARY:NAV lihakarja-arvostelu
DESCRIPTION:
URL:https://nordicebv.info/fi/event/nav-lihakarja-arvostelu-9/
CATEGORIES:Lihakarja-arvostelu
END:VEVENT
END:VCALENDAR