BEGIN:VCALENDAR
VERSION:2.0
PRODID:-//NAV - Nordic Cattle Genetic Evaluation - ECPv6.15.20//NONSGML v1.0//EN
CALSCALE:GREGORIAN
METHOD:PUBLISH
X-WR-CALNAME:NAV - Nordic Cattle Genetic Evaluation
X-ORIGINAL-URL:https://nordicebv.info/fi/
X-WR-CALDESC:Tapahtumat NAV - Nordic Cattle Genetic Evaluation
REFRESH-INTERVAL;VALUE=DURATION:PT1H
X-Robots-Tag:noindex
X-PUBLISHED-TTL:PT1H
BEGIN:VTIMEZONE
TZID:Europe/Helsinki
BEGIN:DAYLIGHT
TZOFFSETFROM:+0200
TZOFFSETTO:+0300
TZNAME:EEST
DTSTART:20220327T010000
END:DAYLIGHT
BEGIN:STANDARD
TZOFFSETFROM:+0300
TZOFFSETTO:+0200
TZNAME:EET
DTSTART:20221030T010000
END:STANDARD
BEGIN:DAYLIGHT
TZOFFSETFROM:+0200
TZOFFSETTO:+0300
TZNAME:EEST
DTSTART:20230326T010000
END:DAYLIGHT
BEGIN:STANDARD
TZOFFSETFROM:+0300
TZOFFSETTO:+0200
TZNAME:EET
DTSTART:20231029T010000
END:STANDARD
BEGIN:DAYLIGHT
TZOFFSETFROM:+0200
TZOFFSETTO:+0300
TZNAME:EEST
DTSTART:20240331T010000
END:DAYLIGHT
BEGIN:STANDARD
TZOFFSETFROM:+0300
TZOFFSETTO:+0200
TZNAME:EET
DTSTART:20241027T010000
END:STANDARD
END:VTIMEZONE
BEGIN:VEVENT
DTSTART;VALUE=DATE:20231205
DTEND;VALUE=DATE:20231206
DTSTAMP:20260424T212733
CREATED:20221116T130854Z
LAST-MODIFIED:20221116T130854Z
UID:14894-1701734400-1701820799@nordicebv.info
SUMMARY:NAV genomiarvostelu
DESCRIPTION:
URL:https://nordicebv.info/fi/event/nav-genomiarvostelu-68/
CATEGORIES:Genomiarvostelu
END:VEVENT
BEGIN:VEVENT
DTSTART;VALUE=DATE:20231205
DTEND;VALUE=DATE:20231206
DTSTAMP:20260424T212733
CREATED:20221116T130926Z
LAST-MODIFIED:20221116T130926Z
UID:14896-1701734400-1701820799@nordicebv.info
SUMMARY:Interbull-arvostelu
DESCRIPTION:
URL:https://nordicebv.info/fi/event/interbull-arvostelu-26/
CATEGORIES:Interbull-arvostelu
END:VEVENT
END:VCALENDAR